BEGIN:VCALENDAR
VERSION:2.0
PRODID:-//NADI Felda Nenering 1 - ECPv6.15.12.2//NONSGML v1.0//EN
CALSCALE:GREGORIAN
METHOD:PUBLISH
X-WR-CALNAME:NADI Felda Nenering 1
X-ORIGINAL-URL:https://feldanenering.nadi.my
X-WR-CALDESC:Events for NADI Felda Nenering 1
REFRESH-INTERVAL;VALUE=DURATION:PT1H
X-Robots-Tag:noindex
X-PUBLISHED-TTL:PT1H
BEGIN:VTIMEZONE
TZID:UTC
BEGIN:STANDARD
TZOFFSETFROM:+0000
TZOFFSETTO:+0000
TZNAME:UTC
DTSTART:20220101T000000
END:STANDARD
END:VTIMEZONE
BEGIN:VEVENT
DTSTART;TZID=UTC:20230904T080000
DTEND;TZID=UTC:20230904T170000
DTSTAMP:20260425T235449
CREATED:20230904T185445Z
LAST-MODIFIED:20230904T185445Z
UID:8816-1693814400-1693846800@feldanenering.nadi.my
SUMMARY:KELAS USAHAWAN AIM
DESCRIPTION:
URL:https://feldanenering.nadi.my/event/kelas-usahawan-aim/
CATEGORIES:DEFAULT
END:VEVENT
BEGIN:VEVENT
DTSTART;TZID=UTC:20230909T080000
DTEND;TZID=UTC:20230909T170000
DTSTAMP:20260425T235449
CREATED:20230904T185507Z
LAST-MODIFIED:20230904T185507Z
UID:8817-1694246400-1694278800@feldanenering.nadi.my
SUMMARY:KELAS MEMBUAT VIDEO CAPCUT
DESCRIPTION:
URL:https://feldanenering.nadi.my/event/kelas-membuat-video-capcut/
CATEGORIES:DEFAULT
END:VEVENT
BEGIN:VEVENT
DTSTART;TZID=UTC:20230910T080000
DTEND;TZID=UTC:20230910T170000
DTSTAMP:20260425T235449
CREATED:20230904T185532Z
LAST-MODIFIED:20230904T185532Z
UID:8818-1694332800-1694365200@feldanenering.nadi.my
SUMMARY:KELAS MICROSOFT OFFICE (WORD)
DESCRIPTION:
URL:https://feldanenering.nadi.my/event/kelas-microsoft-office-word/
CATEGORIES:DEFAULT
END:VEVENT
BEGIN:VEVENT
DTSTART;TZID=UTC:20230914T080000
DTEND;TZID=UTC:20230914T170000
DTSTAMP:20260425T235449
CREATED:20230904T185545Z
LAST-MODIFIED:20230904T185545Z
UID:8819-1694678400-1694710800@feldanenering.nadi.my
SUMMARY:POSTER HARI MALAYSIA
DESCRIPTION:
URL:https://feldanenering.nadi.my/event/poster-hari-malaysia-3/
CATEGORIES:DEFAULT
END:VEVENT
BEGIN:VEVENT
DTSTART;TZID=UTC:20230918T080000
DTEND;TZID=UTC:20230918T170000
DTSTAMP:20260425T235449
CREATED:20230904T185611Z
LAST-MODIFIED:20230904T185611Z
UID:8820-1695024000-1695056400@feldanenering.nadi.my
SUMMARY:KELAS BERSAMA USAHAWAN (TIKTOK / CANVA)
DESCRIPTION:
URL:https://feldanenering.nadi.my/event/kelas-bersama-usahawan-tiktok-canva/
CATEGORIES:DEFAULT
END:VEVENT
BEGIN:VEVENT
DTSTART;TZID=UTC:20230921T080000
DTEND;TZID=UTC:20230921T170000
DTSTAMP:20260425T235449
CREATED:20230904T185627Z
LAST-MODIFIED:20230904T185627Z
UID:8821-1695283200-1695315600@feldanenering.nadi.my
SUMMARY:SILANG KATA ONLINE
DESCRIPTION:
URL:https://feldanenering.nadi.my/event/silang-kata-online/
CATEGORIES:DEFAULT
END:VEVENT
END:VCALENDAR