BEGIN:VCALENDAR
VERSION:2.0
PRODID:-//NADI Felda Nenering 1 - ECPv6.15.12.2//NONSGML v1.0//EN
CALSCALE:GREGORIAN
METHOD:PUBLISH
X-WR-CALNAME:NADI Felda Nenering 1
X-ORIGINAL-URL:https://feldanenering.nadi.my
X-WR-CALDESC:Events for NADI Felda Nenering 1
REFRESH-INTERVAL;VALUE=DURATION:PT1H
X-Robots-Tag:noindex
X-PUBLISHED-TTL:PT1H
BEGIN:VTIMEZONE
TZID:UTC
BEGIN:STANDARD
TZOFFSETFROM:+0000
TZOFFSETTO:+0000
TZNAME:UTC
DTSTART:20180101T000000
END:STANDARD
END:VTIMEZONE
BEGIN:VEVENT
DTSTART;TZID=UTC:20191004T080000
DTEND;TZID=UTC:20191004T170000
DTSTAMP:20260420T122846
CREATED:20191001T200653Z
LAST-MODIFIED:20191001T200653Z
UID:8622-1570176000-1570208400@feldanenering.nadi.my
SUMMARY:MICROSOFT WORD
DESCRIPTION:
URL:https://feldanenering.nadi.my/event/microsoft-word/
CATEGORIES:DEFAULT
END:VEVENT
BEGIN:VEVENT
DTSTART;TZID=UTC:20190923T080000
DTEND;TZID=UTC:20190923T170000
DTSTAMP:20260420T122846
CREATED:20190905T231816Z
LAST-MODIFIED:20190905T231816Z
UID:8621-1569225600-1569258000@feldanenering.nadi.my
SUMMARY:Kelas ICT
DESCRIPTION:
URL:https://feldanenering.nadi.my/event/kelas-ict-3/
CATEGORIES:DEFAULT
END:VEVENT
BEGIN:VEVENT
DTSTART;TZID=UTC:20190921T080000
DTEND;TZID=UTC:20190921T170000
DTSTAMP:20260420T122846
CREATED:20190905T231803Z
LAST-MODIFIED:20190905T231803Z
UID:8620-1569052800-1569085200@feldanenering.nadi.my
SUMMARY:Dashboard MYKOMUNITI
DESCRIPTION:
URL:https://feldanenering.nadi.my/event/dashboard-mykomuniti/
CATEGORIES:DEFAULT
END:VEVENT
BEGIN:VEVENT
DTSTART;TZID=UTC:20190919T080000
DTEND;TZID=UTC:20190919T170000
DTSTAMP:20260420T122846
CREATED:20190905T231741Z
LAST-MODIFIED:20190905T231741Z
UID:8619-1568880000-1568912400@feldanenering.nadi.my
SUMMARY:Kelas Microsoft Office
DESCRIPTION:
URL:https://feldanenering.nadi.my/event/kelas-microsoft-office-6/
CATEGORIES:DEFAULT
END:VEVENT
BEGIN:VEVENT
DTSTART;TZID=UTC:20190917T080000
DTEND;TZID=UTC:20190917T170000
DTSTAMP:20260420T122846
CREATED:20190905T231719Z
LAST-MODIFIED:20190905T231719Z
UID:8618-1568707200-1568739600@feldanenering.nadi.my
SUMMARY:Kuiz Klik Dengan Bijak
DESCRIPTION:
URL:https://feldanenering.nadi.my/event/kuiz-klik-dengan-bijak/
CATEGORIES:DEFAULT
END:VEVENT
BEGIN:VEVENT
DTSTART;TZID=UTC:20190914T080000
DTEND;TZID=UTC:20190914T170000
DTSTAMP:20260420T122846
CREATED:20190905T231625Z
LAST-MODIFIED:20190905T231625Z
UID:8617-1568448000-1568480400@feldanenering.nadi.my
SUMMARY:E-Pembelajaran (word search)
DESCRIPTION:
URL:https://feldanenering.nadi.my/event/e-pembelajaran-word-search/
CATEGORIES:DEFAULT
END:VEVENT
BEGIN:VEVENT
DTSTART;TZID=UTC:20190911T080000
DTEND;TZID=UTC:20190911T170000
DTSTAMP:20260420T122846
CREATED:20190905T231600Z
LAST-MODIFIED:20190905T231600Z
UID:8616-1568188800-1568221200@feldanenering.nadi.my
SUMMARY:Kelas Usahawan
DESCRIPTION:
URL:https://feldanenering.nadi.my/event/kelas-usahawan-12/
CATEGORIES:DEFAULT
END:VEVENT
BEGIN:VEVENT
DTSTART;TZID=UTC:20190908T080000
DTEND;TZID=UTC:20190908T170000
DTSTAMP:20260420T122846
CREATED:20190905T231529Z
LAST-MODIFIED:20190905T231529Z
UID:8615-1567929600-1567962000@feldanenering.nadi.my
SUMMARY:Quizizz Hari Malaysia
DESCRIPTION:
URL:https://feldanenering.nadi.my/event/quizizz-hari-malaysia/
CATEGORIES:DEFAULT
END:VEVENT
BEGIN:VEVENT
DTSTART;TZID=UTC:20190906T080000
DTEND;TZID=UTC:20190906T170000
DTSTAMP:20260420T122846
CREATED:20190905T231508Z
LAST-MODIFIED:20190905T231508Z
UID:8614-1567756800-1567789200@feldanenering.nadi.my
SUMMARY:Kelas Online Banking
DESCRIPTION:
URL:https://feldanenering.nadi.my/event/kelas-online-banking/
CATEGORIES:DEFAULT
END:VEVENT
BEGIN:VEVENT
DTSTART;TZID=UTC:20190824T080000
DTEND;TZID=UTC:20190824T170000
DTSTAMP:20260420T122846
CREATED:20190728T204800Z
LAST-MODIFIED:20190728T204800Z
UID:8613-1566633600-1566666000@feldanenering.nadi.my
SUMMARY:Pertandingan Mewarna Kemerdekaan
DESCRIPTION:
URL:https://feldanenering.nadi.my/event/pertandingan-mewarna-kemerdekaan/
CATEGORIES:DEFAULT
END:VEVENT
BEGIN:VEVENT
DTSTART;TZID=UTC:20190821T080000
DTEND;TZID=UTC:20190821T170000
DTSTAMP:20260420T122846
CREATED:20190728T204737Z
LAST-MODIFIED:20190728T204737Z
UID:8612-1566374400-1566406800@feldanenering.nadi.my
SUMMARY:Program ICT dan Cakna Kesihatan
DESCRIPTION:
URL:https://feldanenering.nadi.my/event/program-ict-dan-cakna-kesihatan/
CATEGORIES:DEFAULT
END:VEVENT
BEGIN:VEVENT
DTSTART;TZID=UTC:20190816T080000
DTEND;TZID=UTC:20190816T170000
DTSTAMP:20260420T122846
CREATED:20190728T204713Z
LAST-MODIFIED:20190728T204713Z
UID:8611-1565942400-1565974800@feldanenering.nadi.my
SUMMARY:Quizizz Online Kemerdekaan
DESCRIPTION:
URL:https://feldanenering.nadi.my/event/quizizz-online-kemerdekaan/
CATEGORIES:DEFAULT
END:VEVENT
BEGIN:VEVENT
DTSTART;TZID=UTC:20190813T080000
DTEND;TZID=UTC:20190813T170000
DTSTAMP:20260420T122846
CREATED:20190728T204652Z
LAST-MODIFIED:20190728T204652Z
UID:8610-1565683200-1565715600@feldanenering.nadi.my
SUMMARY:Kelas Membuat Online Banking
DESCRIPTION:
URL:https://feldanenering.nadi.my/event/kelas-membuat-online-banking/
CATEGORIES:DEFAULT
END:VEVENT
BEGIN:VEVENT
DTSTART;TZID=UTC:20190810T080000
DTEND;TZID=UTC:20190810T170000
DTSTAMP:20260420T122846
CREATED:20190728T204627Z
LAST-MODIFIED:20190728T204627Z
UID:8609-1565424000-1565456400@feldanenering.nadi.my
SUMMARY:Kelas Belajar Berpandukan Youtube
DESCRIPTION:
URL:https://feldanenering.nadi.my/event/kelas-belajar-berpandukan-youtube/
CATEGORIES:DEFAULT
END:VEVENT
BEGIN:VEVENT
DTSTART;TZID=UTC:20190807T080000
DTEND;TZID=UTC:20190807T170000
DTSTAMP:20260420T122846
CREATED:20190728T204559Z
LAST-MODIFIED:20190728T204559Z
UID:8608-1565164800-1565197200@feldanenering.nadi.my
SUMMARY:Kelas usahawan
DESCRIPTION:
URL:https://feldanenering.nadi.my/event/kelas-usahawan-11/
CATEGORIES:DEFAULT
END:VEVENT
BEGIN:VEVENT
DTSTART;TZID=UTC:20190804T080000
DTEND;TZID=UTC:20190804T170000
DTSTAMP:20260420T122846
CREATED:20190728T204540Z
LAST-MODIFIED:20190728T204540Z
UID:8607-1564905600-1564938000@feldanenering.nadi.my
SUMMARY:Kelas Adobe Photoshop
DESCRIPTION:
URL:https://feldanenering.nadi.my/event/kelas-adobe-photoshop-8/
CATEGORIES:DEFAULT
END:VEVENT
BEGIN:VEVENT
DTSTART;TZID=UTC:20190803T080000
DTEND;TZID=UTC:20190803T170000
DTSTAMP:20260420T122846
CREATED:20190728T204510Z
LAST-MODIFIED:20190728T204510Z
UID:8606-1564819200-1564851600@feldanenering.nadi.my
SUMMARY:Microsoft Office
DESCRIPTION:
URL:https://feldanenering.nadi.my/event/microsoft-office-2/
CATEGORIES:DEFAULT
END:VEVENT
BEGIN:VEVENT
DTSTART;TZID=UTC:20190723T080000
DTEND;TZID=UTC:20190723T170000
DTSTAMP:20260420T122846
CREATED:20190701T191626Z
LAST-MODIFIED:20190701T191626Z
UID:8605-1563868800-1563901200@feldanenering.nadi.my
SUMMARY:DASHBOARD MYSHOP & MYHEALTH
DESCRIPTION:
URL:https://feldanenering.nadi.my/event/dashboard-myshop-myhealth/
CATEGORIES:DEFAULT
END:VEVENT
BEGIN:VEVENT
DTSTART;TZID=UTC:20190721T080000
DTEND;TZID=UTC:20190721T170000
DTSTAMP:20260420T122846
CREATED:20190701T191605Z
LAST-MODIFIED:20190701T191605Z
UID:8604-1563696000-1563728400@feldanenering.nadi.my
SUMMARY:MENGAJI ONLINE
DESCRIPTION:
URL:https://feldanenering.nadi.my/event/mengaji-online/
CATEGORIES:DEFAULT
END:VEVENT
BEGIN:VEVENT
DTSTART;TZID=UTC:20190719T080000
DTEND;TZID=UTC:20190719T170000
DTSTAMP:20260420T122846
CREATED:20190701T191551Z
LAST-MODIFIED:20190701T191551Z
UID:8603-1563523200-1563555600@feldanenering.nadi.my
SUMMARY:BELAJAR MELALUI YOUTUBE
DESCRIPTION:
URL:https://feldanenering.nadi.my/event/belajar-melalui-youtube/
CATEGORIES:DEFAULT
END:VEVENT
BEGIN:VEVENT
DTSTART;TZID=UTC:20190716T080000
DTEND;TZID=UTC:20190717T170000
DTSTAMP:20260420T122846
CREATED:20190701T191524Z
LAST-MODIFIED:20190701T191524Z
UID:8602-1563264000-1563382800@feldanenering.nadi.my
SUMMARY:ADOBE PHOTOSHOP
DESCRIPTION:
URL:https://feldanenering.nadi.my/event/adobe-photoshop-3/
CATEGORIES:DEFAULT
END:VEVENT
BEGIN:VEVENT
DTSTART;TZID=UTC:20190714T080000
DTEND;TZID=UTC:20190714T170000
DTSTAMP:20260420T122846
CREATED:20190701T191508Z
LAST-MODIFIED:20190701T191508Z
UID:8601-1563091200-1563123600@feldanenering.nadi.my
SUMMARY:MICROSOFT OFFICE
DESCRIPTION:
URL:https://feldanenering.nadi.my/event/microsoft-office/
CATEGORIES:DEFAULT
END:VEVENT
BEGIN:VEVENT
DTSTART;TZID=UTC:20190711T080000
DTEND;TZID=UTC:20190711T170000
DTSTAMP:20260420T122846
CREATED:20190701T191451Z
LAST-MODIFIED:20190701T191451Z
UID:8600-1562832000-1562864400@feldanenering.nadi.my
SUMMARY:KELAS MICROSOFT PUBISHER
DESCRIPTION:
URL:https://feldanenering.nadi.my/event/kelas-microsoft-pubisher/
CATEGORIES:DEFAULT
END:VEVENT
BEGIN:VEVENT
DTSTART;TZID=UTC:20190708T080000
DTEND;TZID=UTC:20190708T170000
DTSTAMP:20260420T122846
CREATED:20190701T191429Z
LAST-MODIFIED:20190701T191429Z
UID:8599-1562572800-1562605200@feldanenering.nadi.my
SUMMARY:KELAS USAHAWAN
DESCRIPTION:
URL:https://feldanenering.nadi.my/event/kelas-usahawan-10/
CATEGORIES:DEFAULT
END:VEVENT
BEGIN:VEVENT
DTSTART;TZID=UTC:20190705T080000
DTEND;TZID=UTC:20190705T170000
DTSTAMP:20260420T122846
CREATED:20190701T191414Z
LAST-MODIFIED:20190701T191414Z
UID:8598-1562313600-1562346000@feldanenering.nadi.my
SUMMARY:KELAS MICROSOFT WORD
DESCRIPTION:
URL:https://feldanenering.nadi.my/event/kelas-microsoft-word-9/
CATEGORIES:DEFAULT
END:VEVENT
BEGIN:VEVENT
DTSTART;TZID=UTC:20190623T080000
DTEND;TZID=UTC:20190623T170000
DTSTAMP:20260420T122846
CREATED:20190531T192858Z
LAST-MODIFIED:20190531T192858Z
UID:8597-1561276800-1561309200@feldanenering.nadi.my
SUMMARY:KELAS TYPING TEST
DESCRIPTION:
URL:https://feldanenering.nadi.my/event/kelas-typing-test/
CATEGORIES:DEFAULT
END:VEVENT
BEGIN:VEVENT
DTSTART;TZID=UTC:20190620T080000
DTEND;TZID=UTC:20190620T170000
DTSTAMP:20260420T122846
CREATED:20190531T192843Z
LAST-MODIFIED:20190531T192843Z
UID:8596-1561017600-1561050000@feldanenering.nadi.my
SUMMARY:KUIZ SANTAI HARI RAYA
DESCRIPTION:
URL:https://feldanenering.nadi.my/event/kuiz-santai-hari-raya/
CATEGORIES:DEFAULT
END:VEVENT
BEGIN:VEVENT
DTSTART;TZID=UTC:20190616T080000
DTEND;TZID=UTC:20190616T170000
DTSTAMP:20260420T122846
CREATED:20190531T192826Z
LAST-MODIFIED:20190531T192826Z
UID:8595-1560672000-1560704400@feldanenering.nadi.my
SUMMARY:KELAS PENGENALAN ICT
DESCRIPTION:
URL:https://feldanenering.nadi.my/event/kelas-pengenalan-ict/
CATEGORIES:DEFAULT
END:VEVENT
BEGIN:VEVENT
DTSTART;TZID=UTC:20190614T080000
DTEND;TZID=UTC:20190614T170000
DTSTAMP:20260420T122846
CREATED:20190531T192803Z
LAST-MODIFIED:20190531T192803Z
UID:8594-1560499200-1560531600@feldanenering.nadi.my
SUMMARY:KELAS TUITION E-PERAK BATCH 2
DESCRIPTION:
URL:https://feldanenering.nadi.my/event/kelas-tuition-e-perak-batch-2/
CATEGORIES:DEFAULT
END:VEVENT
BEGIN:VEVENT
DTSTART;TZID=UTC:20190610T080000
DTEND;TZID=UTC:20190610T170000
DTSTAMP:20260420T122846
CREATED:20190531T192739Z
LAST-MODIFIED:20190531T192739Z
UID:8593-1560153600-1560186000@feldanenering.nadi.my
SUMMARY:JAMUAN HARI RAYA
DESCRIPTION:
URL:https://feldanenering.nadi.my/event/jamuan-hari-raya/
CATEGORIES:DEFAULT
END:VEVENT
END:VCALENDAR