BEGIN:VCALENDAR
VERSION:2.0
PRODID:-//NADI Felda Nenering 1 - ECPv6.15.12.2//NONSGML v1.0//EN
CALSCALE:GREGORIAN
METHOD:PUBLISH
X-WR-CALNAME:NADI Felda Nenering 1
X-ORIGINAL-URL:https://feldanenering.nadi.my
X-WR-CALDESC:Events for NADI Felda Nenering 1
REFRESH-INTERVAL;VALUE=DURATION:PT1H
X-Robots-Tag:noindex
X-PUBLISHED-TTL:PT1H
BEGIN:VTIMEZONE
TZID:UTC
BEGIN:STANDARD
TZOFFSETFROM:+0000
TZOFFSETTO:+0000
TZNAME:UTC
DTSTART:20220101T000000
END:STANDARD
END:VTIMEZONE
BEGIN:VEVENT
DTSTART;TZID=UTC:20230809T080000
DTEND;TZID=UTC:20230809T170000
DTSTAMP:20260425T015057
CREATED:20230813T204501Z
LAST-MODIFIED:20230813T204501Z
UID:8810-1691568000-1691600400@feldanenering.nadi.my
SUMMARY:KUIZ BERSAMA PELAJAR SK FELDA LEPANG NENERING
DESCRIPTION:
URL:https://feldanenering.nadi.my/event/kuiz-bersama-pelajar-sk-felda-lepang-nenering/
CATEGORIES:DEFAULT
END:VEVENT
END:VCALENDAR